BEGIN:VCALENDAR
VERSION:2.0
PRODID:-//ddaysoftware.com//NONSGML DDay.iCal 1.0//EN
BEGIN:VTIMEZONE
TZID:W. Europe Standard Time
BEGIN:STANDARD
DTSTART:20251002T030000
RRULE:FREQ=YEARLY;BYDAY=-1SU;BYHOUR=3;BYMINUTE=0;BYMONTH=10
TZNAME:Mitteleuropäische Zeit
TZOFFSETFROM:+0200
TZOFFSETTO:+0100
END:STANDARD
BEGIN:DAYLIGHT
DTSTART:20250301T020000
RRULE:FREQ=YEARLY;BYDAY=-1SU;BYHOUR=2;BYMINUTE=0;BYMONTH=3
TZNAME:Mitteleuropäische Sommerzeit
TZOFFSETFROM:+0100
TZOFFSETTO:+0200
END:DAYLIGHT
END:VTIMEZONE
BEGIN:VEVENT
CATEGORIES:Fest\, Kulinarisches
DESCRIPTION:\n\nVeranstalter: Freiwillige Feuerwehr Rück-Schippach\n\nhttps
 ://www.elsenfeld.de/freizeit-vereine/veranstaltungen/2605-feuerwehrfest-de
 r-ffw-rueck-schippach/
DTEND:20260524T120000
DTSTAMP:20260420T142522Z
DTSTART:20260524T110000
LOCATION:Feuerwehrgerätehaus Rück: Elsavatalstraße 104\, 63820 Elsenfeld
SEQUENCE:0
SUMMARY:Feuerwehrfest der FFW Rück-Schippach
UID:198436
URL:https://www.elsenfeld.de/freizeit-vereine/veranstaltungen/2605-feuerweh
 rfest-der-ffw-rueck-schippach/
END:VEVENT
END:VCALENDAR
