BEGIN:VCALENDAR
VERSION:2.0
PRODID:-//ddaysoftware.com//NONSGML DDay.iCal 1.0//EN
BEGIN:VTIMEZONE
TZID:W. Europe Standard Time
BEGIN:STANDARD
DTSTART:20251002T030000
RRULE:FREQ=YEARLY;BYDAY=-1SU;BYHOUR=3;BYMINUTE=0;BYMONTH=10
TZNAME:Mitteleuropäische Zeit
TZOFFSETFROM:+0200
TZOFFSETTO:+0100
END:STANDARD
BEGIN:DAYLIGHT
DTSTART:20250301T020000
RRULE:FREQ=YEARLY;BYDAY=-1SU;BYHOUR=2;BYMINUTE=0;BYMONTH=3
TZNAME:Mitteleuropäische Sommerzeit
TZOFFSETFROM:+0100
TZOFFSETTO:+0200
END:DAYLIGHT
END:VTIMEZONE
BEGIN:VEVENT
CATEGORIES:Musik\, Gesang\, Konzert
DESCRIPTION:\n\nVeranstalter: Gesangverein Concordia Rück-Schippach e.V.\n\
 nhttps://www.elsenfeld.de/freizeit-vereine/veranstaltungen/2605-fruehlings
 konzert-gesangsverein/
DTEND:20260503T190000
DTSTAMP:20260420T142649Z
DTSTART:20260503T180000
LOCATION:Kloster Himmelthal: Kloster Himmelthal 1\, 63820 Elsenfeld
SEQUENCE:0
SUMMARY:Frühlingskonzert
UID:198055
URL:https://www.elsenfeld.de/freizeit-vereine/veranstaltungen/2605-fruehlin
 gskonzert-gesangsverein/
END:VEVENT
END:VCALENDAR
