BEGIN:VCALENDAR
VERSION:2.0
PRODID:-//ddaysoftware.com//NONSGML DDay.iCal 1.0//EN
BEGIN:VTIMEZONE
TZID:W. Europe Standard Time
BEGIN:STANDARD
DTSTART:20251002T030000
RRULE:FREQ=YEARLY;BYDAY=-1SU;BYHOUR=3;BYMINUTE=0;BYMONTH=10
TZNAME:Mitteleuropäische Zeit
TZOFFSETFROM:+0200
TZOFFSETTO:+0100
END:STANDARD
BEGIN:DAYLIGHT
DTSTART:20250301T020000
RRULE:FREQ=YEARLY;BYDAY=-1SU;BYHOUR=2;BYMINUTE=0;BYMONTH=3
TZNAME:Mitteleuropäische Sommerzeit
TZOFFSETFROM:+0100
TZOFFSETTO:+0200
END:DAYLIGHT
END:VTIMEZONE
BEGIN:VEVENT
CATEGORIES:Kunst\, Ausstellung\, Literatur
DESCRIPTION:\n\nVeranstalter: Markt Elsenfeld\n\nhttps://www.elsenfeld.de/f
 reizeit-vereine/veranstaltungen/2605-weinlesemalanders-ausstellung-geoeffn
 et/
DTEND:20260503T150000
DTSTAMP:20260421T180715Z
DTSTART:20260503T140000
LOCATION:Bürgerzentrum Elsenfeld: Mühlweg 9\, 63820 Elsenfeld
SEQUENCE:0
SUMMARY:WeinLeseMalAnders: Ausstellung geöffnet
UID:198733
URL:https://www.elsenfeld.de/freizeit-vereine/veranstaltungen/2605-weinlese
 malanders-ausstellung-geoeffnet/
END:VEVENT
END:VCALENDAR
