BEGIN:VCALENDAR
VERSION:2.0
PRODID:-//ddaysoftware.com//NONSGML DDay.iCal 1.0//EN
BEGIN:VTIMEZONE
TZID:W. Europe Standard Time
BEGIN:STANDARD
DTSTART:20251002T030000
RRULE:FREQ=YEARLY;BYDAY=-1SU;BYHOUR=3;BYMINUTE=0;BYMONTH=10
TZNAME:Mitteleuropäische Zeit
TZOFFSETFROM:+0200
TZOFFSETTO:+0100
END:STANDARD
BEGIN:DAYLIGHT
DTSTART:20250301T020000
RRULE:FREQ=YEARLY;BYDAY=-1SU;BYHOUR=2;BYMINUTE=0;BYMONTH=3
TZNAME:Mitteleuropäische Sommerzeit
TZOFFSETFROM:+0100
TZOFFSETTO:+0200
END:DAYLIGHT
END:VTIMEZONE
BEGIN:VEVENT
CATEGORIES:Musik\, Gesang\, Konzert
DESCRIPTION:Bühne frei im Park!\n\nVeranstalter: Markt Elsenfeld\n\nhttps:/
 /www.elsenfeld.de/freizeit-vereine/veranstaltungen/2606-faires-open-mic/
DTEND:20260619T190000
DTSTAMP:20260421T180423Z
DTSTART:20260619T180000
LOCATION:Elsavapark: Am Mühlweg 5\, 63820 Elsenfeld
SEQUENCE:0
SUMMARY:Faires Beach Open-Mic
UID:198739
URL:https://www.elsenfeld.de/freizeit-vereine/veranstaltungen/2606-faires-o
 pen-mic/
END:VEVENT
END:VCALENDAR
