BEGIN:VCALENDAR
VERSION:2.0
PRODID:-//ddaysoftware.com//NONSGML DDay.iCal 1.0//EN
BEGIN:VTIMEZONE
TZID:W. Europe Standard Time
BEGIN:STANDARD
DTSTART:20251002T030000
RRULE:FREQ=YEARLY;BYDAY=-1SU;BYHOUR=3;BYMINUTE=0;BYMONTH=10
TZNAME:Mitteleuropäische Zeit
TZOFFSETFROM:+0200
TZOFFSETTO:+0100
END:STANDARD
BEGIN:DAYLIGHT
DTSTART:20250301T020000
RRULE:FREQ=YEARLY;BYDAY=-1SU;BYHOUR=2;BYMINUTE=0;BYMONTH=3
TZNAME:Mitteleuropäische Sommerzeit
TZOFFSETFROM:+0100
TZOFFSETTO:+0200
END:DAYLIGHT
END:VTIMEZONE
BEGIN:VEVENT
CATEGORIES:Fest\, Kulinarisches
DESCRIPTION:Johannisfeuer der Pfadfinder\, Stamm Germania\n\nVeranstalter: 
 Deutsche Pfadfinderschaft St. Georg (DPSG) - Stamm "Germania" Elsenfeld\n\
 nhttps://www.elsenfeld.de/freizeit-vereine/veranstaltungen/2606-johannisfe
 uer/
DTEND:20260621T180000
DTSTAMP:20260421T180835Z
DTSTART:20260621T170000
LOCATION:Spielplatz Schulstraße: Schulstraße\, 63820 Elsenfeld
SEQUENCE:0
SUMMARY:Johannisfeuer
UID:198740
URL:https://www.elsenfeld.de/freizeit-vereine/veranstaltungen/2606-johannis
 feuer/
END:VEVENT
END:VCALENDAR
