BEGIN:VCALENDAR
VERSION:2.0
PRODID:-//ddaysoftware.com//NONSGML DDay.iCal 1.0//EN
BEGIN:VTIMEZONE
TZID:W. Europe Standard Time
BEGIN:STANDARD
DTSTART:20251002T030000
RRULE:FREQ=YEARLY;BYDAY=-1SU;BYHOUR=3;BYMINUTE=0;BYMONTH=10
TZNAME:Mitteleuropäische Zeit
TZOFFSETFROM:+0200
TZOFFSETTO:+0100
END:STANDARD
BEGIN:DAYLIGHT
DTSTART:20250301T020000
RRULE:FREQ=YEARLY;BYDAY=-1SU;BYHOUR=2;BYMINUTE=0;BYMONTH=3
TZNAME:Mitteleuropäische Sommerzeit
TZOFFSETFROM:+0100
TZOFFSETTO:+0200
END:DAYLIGHT
END:VTIMEZONE
BEGIN:VEVENT
CATEGORIES:Stadtbücherei
CATEGORIES:Kunst\, Ausstellung\, Literatur
DESCRIPTION:aus ihren Regionalkrimis\n\nVeranstalter: Freunde der Gemeindeb
 ibliothek e.V.\n\nhttps://www.elsenfeld.de/freizeit-vereine/veranstaltunge
 n/2606-lesung-bibliothek/
DTEND;VALUE=DATE:20260612
DTSTAMP:20260422T193202Z
DTSTART;VALUE=DATE:20260611
LOCATION:Bibliothek: Marienstraße 4\, 63820 Elsenfeld
SEQUENCE:0
SUMMARY:Lesung mit Birgid Windisch
UID:198748
URL:https://www.elsenfeld.de/freizeit-vereine/veranstaltungen/2606-lesung-b
 ibliothek/
END:VEVENT
END:VCALENDAR
