BEGIN:VCALENDAR
VERSION:2.0
PRODID:-//ddaysoftware.com//NONSGML DDay.iCal 1.0//EN
BEGIN:VTIMEZONE
TZID:W. Europe Standard Time
BEGIN:STANDARD
DTSTART:20251002T030000
RRULE:FREQ=YEARLY;BYDAY=-1SU;BYHOUR=3;BYMINUTE=0;BYMONTH=10
TZNAME:Mitteleuropäische Zeit
TZOFFSETFROM:+0200
TZOFFSETTO:+0100
END:STANDARD
BEGIN:DAYLIGHT
DTSTART:20250301T020000
RRULE:FREQ=YEARLY;BYDAY=-1SU;BYHOUR=2;BYMINUTE=0;BYMONTH=3
TZNAME:Mitteleuropäische Sommerzeit
TZOFFSETFROM:+0100
TZOFFSETTO:+0200
END:DAYLIGHT
END:VTIMEZONE
BEGIN:VEVENT
CATEGORIES:Kirchliche Veranstaltung
DESCRIPTION:in der St. Antonius Kirche\n\nVeranstalter: PG Christus Salvato
 r\n\nhttps://www.elsenfeld.de/freizeit-vereine/veranstaltungen/2606-patroz
 inium-st-antonius/
DTEND:20260611T193000
DTSTAMP:20260422T194419Z
DTSTART:20260611T183000
SEQUENCE:0
SUMMARY:Patrozinium St. Antonius
UID:198758
URL:https://www.elsenfeld.de/freizeit-vereine/veranstaltungen/2606-patrozin
 ium-st-antonius/
END:VEVENT
END:VCALENDAR
