BEGIN:VCALENDAR
VERSION:2.0
PRODID:-//ddaysoftware.com//NONSGML DDay.iCal 1.0//EN
BEGIN:VTIMEZONE
TZID:W. Europe Standard Time
BEGIN:STANDARD
DTSTART:20251002T030000
RRULE:FREQ=YEARLY;BYDAY=-1SU;BYHOUR=3;BYMINUTE=0;BYMONTH=10
TZNAME:Mitteleuropäische Zeit
TZOFFSETFROM:+0200
TZOFFSETTO:+0100
END:STANDARD
BEGIN:DAYLIGHT
DTSTART:20250301T020000
RRULE:FREQ=YEARLY;BYDAY=-1SU;BYHOUR=2;BYMINUTE=0;BYMONTH=3
TZNAME:Mitteleuropäische Sommerzeit
TZOFFSETFROM:+0100
TZOFFSETTO:+0200
END:DAYLIGHT
END:VTIMEZONE
BEGIN:VEVENT
CATEGORIES:Kirchliche Veranstaltung
DESCRIPTION:\n\nVeranstalter: PG Christus Salvator\n\nhttps://www.elsenfeld
 .de/freizeit-vereine/veranstaltungen/2606-patrozinium-st-johannes/
DTEND:20260620T190000
DTSTAMP:20260423T235932Z
DTSTART:20260620T180000
LOCATION:St. Johannes Kirche: Kirchgasse 3\, 63820 Elsenfeld
SEQUENCE:0
SUMMARY:Patrozinium St. Johannes
UID:198784
URL:https://www.elsenfeld.de/freizeit-vereine/veranstaltungen/2606-patrozin
 ium-st-johannes/
END:VEVENT
END:VCALENDAR
