BEGIN:VCALENDAR
VERSION:2.0
PRODID:-//ddaysoftware.com//NONSGML DDay.iCal 1.0//EN
BEGIN:VTIMEZONE
TZID:W. Europe Standard Time
BEGIN:STANDARD
DTSTART:20251002T030000
RRULE:FREQ=YEARLY;BYDAY=-1SU;BYHOUR=3;BYMINUTE=0;BYMONTH=10
TZNAME:Mitteleuropäische Zeit
TZOFFSETFROM:+0200
TZOFFSETTO:+0100
END:STANDARD
BEGIN:DAYLIGHT
DTSTART:20250301T020000
RRULE:FREQ=YEARLY;BYDAY=-1SU;BYHOUR=2;BYMINUTE=0;BYMONTH=3
TZNAME:Mitteleuropäische Sommerzeit
TZOFFSETFROM:+0100
TZOFFSETTO:+0200
END:DAYLIGHT
END:VTIMEZONE
BEGIN:VEVENT
CATEGORIES:Spiel\, Spaß
CATEGORIES:Sport\, Freizeit
DESCRIPTION:\n\nVeranstalter: Seniorentreff Mittendrin\n\nhttps://www.elsen
 feld.de/freizeit-vereine/veranstaltungen/2606-schafkopf/
DTEND:20260619T160000
DTSTAMP:20260424T000107Z
DTSTART:20260619T150000
LOCATION:Seniorentreff Mittendrin: Marktplatz 4\, 63820 Elsenfeld
SEQUENCE:0
SUMMARY:Schafkopf-Nachmittag „Alt mischt\, Jung sticht“
UID:198781
URL:https://www.elsenfeld.de/freizeit-vereine/veranstaltungen/2606-schafkop
 f/
END:VEVENT
END:VCALENDAR
