BEGIN:VCALENDAR
VERSION:2.0
PRODID:-//ddaysoftware.com//NONSGML DDay.iCal 1.0//EN
BEGIN:VTIMEZONE
TZID:W. Europe Standard Time
BEGIN:STANDARD
DTSTART:20251002T030000
RRULE:FREQ=YEARLY;BYDAY=-1SU;BYHOUR=3;BYMINUTE=0;BYMONTH=10
TZNAME:Mitteleuropäische Zeit
TZOFFSETFROM:+0200
TZOFFSETTO:+0100
END:STANDARD
BEGIN:DAYLIGHT
DTSTART:20250301T020000
RRULE:FREQ=YEARLY;BYDAY=-1SU;BYHOUR=2;BYMINUTE=0;BYMONTH=3
TZNAME:Mitteleuropäische Sommerzeit
TZOFFSETFROM:+0100
TZOFFSETTO:+0200
END:DAYLIGHT
END:VTIMEZONE
BEGIN:VEVENT
CATEGORIES:Sport\, Freizeit
DESCRIPTION:\n\nVeranstalter: Modell-Flug-Gruppe "ELSAVA" e.V.\n\nhttps://w
 ww.elsenfeld.de/freizeit-vereine/veranstaltungen/2607-acro-segelflug-wettb
 ewerb/
DTEND:20260719T000000
DTSTAMP:20260419T164122Z
DTSTART;VALUE=DATE:20260718
LOCATION:Modellflugplatz MFG Elsava e.V.: 63820 Elsenfeld
SEQUENCE:0
SUMMARY:Acro-Segelflug Wettbewerb
UID:196803
URL:https://www.elsenfeld.de/freizeit-vereine/veranstaltungen/2607-acro-seg
 elflug-wettbewerb/
END:VEVENT
END:VCALENDAR
