BEGIN:VCALENDAR
VERSION:2.0
PRODID:-//ddaysoftware.com//NONSGML DDay.iCal 1.0//EN
BEGIN:VTIMEZONE
TZID:W. Europe Standard Time
BEGIN:STANDARD
DTSTART:20251002T030000
RRULE:FREQ=YEARLY;BYDAY=-1SU;BYHOUR=3;BYMINUTE=0;BYMONTH=10
TZNAME:Mitteleuropäische Zeit
TZOFFSETFROM:+0200
TZOFFSETTO:+0100
END:STANDARD
BEGIN:DAYLIGHT
DTSTART:20250301T020000
RRULE:FREQ=YEARLY;BYDAY=-1SU;BYHOUR=2;BYMINUTE=0;BYMONTH=3
TZNAME:Mitteleuropäische Sommerzeit
TZOFFSETFROM:+0100
TZOFFSETTO:+0200
END:DAYLIGHT
END:VTIMEZONE
BEGIN:VEVENT
CATEGORIES:Sport\, Freizeit
DESCRIPTION:\n\nVeranstalter: Landratsamt Miltenberg\n\nhttps://www.elsenfe
 ld.de/freizeit-vereine/veranstaltungen/2611-tag-des-sports/
DTEND:20261127T203000
DTSTAMP:20260421T135212Z
DTSTART:20261127T193000
LOCATION:Untermainhalle: Dammsfeldstraße 11\, 63820 Elsenfeld
SEQUENCE:0
SUMMARY:Tag des Sports
UID:198727
URL:https://www.elsenfeld.de/freizeit-vereine/veranstaltungen/2611-tag-des-
 sports/
END:VEVENT
END:VCALENDAR
